{"text_format":"1","workbook":"xlsx","n_sheets":3,"sheets":["取りまとめシート","男子申込(形・組手共通)","女子申込(形・組手共通) "],"not_rendered":{"charts":0,"images":0,"macros":1,"external_links":0,"defined_names":0,"comments":2,"pivot_tables":0},"unopened":[],"bounds":{"document_bytes":16777216,"sheet_cells":100000,"rows_first":2000,"rows_last":500,"rows_between":2000,"halvings":0,"cell_chars":16384,"cell_head_chars":4096},"cells_cut":0,"cells_raw":0,"read":"whole","date_system":"1900"}

{"sheet":"取りまとめシート","index":0,"n_rows":39,"n_cols":12,"rows_kept":39,"cut":false,"hidden":false,"merged":[[0,0,0,9],[1,2,1,3],[5,1,5,7],[3,0,4,0],[1,4,1,9]]}
["宮崎県少年少女空手道選手権大会申込取りまとめ表"]
[null,"申込ファイル送信先",{"$f":"HYPERLINK(\"mailto:\"&K3&\"?subject=\"&I5&\"\",\"kyouka@miyazaki-karate.jp\")","v":"kyouka@miyazaki-karate.jp"},null,"ファイルの保存は必ず「申込ファイル保存」のボタンから保存してください。"]
[null,"申込締切","4月5日（金）※参加費等の送金締切日4月12日（金）。（期限厳守）",null,null,null,null,null,null,null,"kyouka@miyazaki-karate.jp"]
["入力必須\n項　　目","団体名","参加費","広告協賛金額","送金金額","送金日","申込責任者","連絡先携帯番号","保存ファイル名",null,"剛柔会支部"]
[null,null,{"$f":"3000*(J9+J10+J11+J12)","v":0},{"$f":"IF(C7=1/3,5000,C7*20000)","v":0},{"$f":"C5+D5","v":0},null,null,null,{"$f":"B5&\"少年大会申込\"","v":"少年大会申込"},null,"士濤館"]
[null,"　　　　　　※黄色いセルに入力し各申込シートに入力してください。（自動計算されます。）",null,null,null,null,null,null,null,null,"延岡松濤館"]
[null,"広告協賛",null,"ページ",null,null,null,null,null,null,"高千穂松濤館"]
["団体名","種目",null,"小学１年","小学２年","小学３年","小学４年","小学５年","小学６年","合計","玄瀏館",1]
[{"$f":"$B$5","v":0},"男子形",null,{"$f":"'男子申込(形・組手共通)'!$N$4","v":0},{"$f":"'男子申込(形・組手共通)'!$N$5","v":0},{"$f":"'男子申込(形・組手共通)'!$N$6","v":0},{"$f":"'男子申込(形・組手共通)'!$N$7","v":0},{"$f":"'男子申込(形・組手共通)'!$N$8","v":0},{"$f":"'男子申込(形・組手共通)'!$N$9","v":0},{"$f":"SUM(C9:I9)","v":0},"順泉館",0.5]
[{"$f":"$B$5","v":0},"男子組手",null,{"$f":"'男子申込(形・組手共通)'!$O$4","v":0},{"$f":"'男子申込(形・組手共通)'!$O$5","v":0},{"$f":"'男子申込(形・組手共通)'!$O$6","v":0},{"$f":"'男子申込(形・組手共通)'!$O$7","v":0},{"$f":"'男子申込(形・組手共通)'!$O$8","v":0},{"$f":"'男子申込(形・組手共通)'!$O$9","v":0},{"$f":"SUM(C10:I10)","v":0},"同心館東郷",0.33333333333333331]
[{"$f":"$B$5","v":0},"女子形",null,{"$f":"'女子申込(形・組手共通) '!$N$4","v":0},{"$f":"'女子申込(形・組手共通) '!$N$5","v":0},{"$f":"'女子申込(形・組手共通) '!$N$6","v":0},{"$f":"'女子申込(形・組手共通) '!$N$7","v":0},{"$f":"'女子申込(形・組手共通) '!$N$8","v":0},{"$f":"'女子申込(形・組手共通) '!$N$9","v":0},{"$f":"SUM(C11:I11)","v":0},"明日香塾"]
[{"$f":"$B$5","v":0},"女子組手",null,{"$f":"'女子申込(形・組手共通) '!$O$4","v":0},{"$f":"'女子申込(形・組手共通) '!$O$5","v":0},{"$f":"'女子申込(形・組手共通) '!$O$6","v":0},{"$f":"'女子申込(形・組手共通) '!$O$7","v":0},{"$f":"'女子申込(形・組手共通) '!$O$8","v":0},{"$f":"'女子申込(形・組手共通) '!$O$9","v":0},{"$f":"SUM(C12:I12)","v":0},"征柔館"]
[null,null,null,null,null,null,null,null,null,null,"南空会"]
[null,null,null,null,null,null,null,null,null,null,"Ｕ松濤館"]
[null,null,null,null,null,null,null,null,null,null,"新富和道会"]
[null,null,null,null,null,null,null,null,null,null,"白水道場"]
[null,null,null,null,null,null,null,null,null,null,"順武館"]
[null,null,null,null,null,null,null,null,null,null,"優和館"]
[null,null,null,null,null,null,null,null,null,null,"同心館宮崎"]
[null,null,null,null,null,null,null,null,null,null,"瓜生空手クラブ"]
[null,null,null,null,null,null,null,null,null,null,"心道会"]
[null,null,null,null,null,null,null,null,null,null,"紘徳館"]
[null,null,null,null,null,null,null,null,null,null,"宮崎修道会"]
[null,null,null,null,null,null,null,null,null,null,"宮崎松涛館"]
[null,null,null,null,null,null,null,null,null,null,"明青塾"]
[null,null,null,null,null,null,null,null,null,null,"至空塾"]
[null,null,null,null,null,null,null,null,null,null,"錦空手会"]
[null,null,null,null,null,null,null,null,null,null,"夢道場"]
[null,null,null,null,null,null,null,null,null,null,"宮崎征柔館"]
[null,null,null,null,null,null,null,null,null,null,"日本松涛連盟宮崎"]
[null,null,null,null,null,null,null,null,null,null,"神武館"]
[null,null,null,null,null,null,null,null,null,null,"敬武館南郷"]
[null,null,null,null,null,null,null,null,null,null,"串間松濤館"]
[null,null,null,null,null,null,null,null,null,null,"敬武館串間"]
[null,null,null,null,null,null,null,null,null,null,"緑勝会"]
[null,null,null,null,null,null,null,null,null,null,"北志館"]
[null,null,null,null,null,null,null,null,null,null,"敬武館都城"]
[null,null,null,null,null,null,null,null,null,null,"小林会宮崎"]
[null,null,null,null,null,null,null,null,null,null,"真幸会"]

{"sheet":"男子申込(形・組手共通)","index":1,"n_rows":109,"n_cols":15,"rows_kept":109,"cut":false,"hidden":false,"merged":[[0,12,0,14],[7,0,8,0],[0,0,0,8],[1,0,2,8],[7,3,8,3],[7,5,7,6],[7,4,8,4],[7,2,8,2],[7,8,8,8],[1,12,2,12],[1,13,2,13],[1,14,2,14],[7,1,8,1]]}
["宮崎県少年少女空手道選手権大会　参加申込書（男子）",null,null,null,null,null,null,null,null,null,null,null,"参加人数表（男子）"]
["注意１：令和６年度の新学年での記入です。十分ご注意下さい。\n注意２：名前は左詰めです。姓の前にスペースを入れないで下さい。\n注意３：姓と名の間は必ずスペースを入れて下さい。",null,null,null,null,null,null,null,null,null,null,null,"学年","形","組手"]
[]
[null,"☆小学生以上は公認段または級位取得者でないと大会に参加できません。",null,null,null,null,null,null,null,null,null,1,"小学１年",{"$f":"COUNTIF($K$10:$K$109,\"小学１年\")","v":0},{"$f":"COUNTIF($L$10:$L$109,\"小学１年\")","v":0}]
[null,"下記の段級位欄には、道場段級位ではなくJKF公認段級位を記入してください。",null,null,null,null,null,null,null,null,"〇",2,"小学２年",{"$f":"COUNTIF($K$10:$K$109,\"小学２年\")","v":0},{"$f":"COUNTIF($L$10:$L$109,\"小学２年\")","v":0}]
[null,"なお、申込時に未取得の場合は、予定日に４／〇と入力の上、取得予定級を級位欄に入力下さい。",null,null,null,null,null,null,null,null,"－",3,"小学３年",{"$f":"COUNTIF($K$10:$K$109,\"小学３年\")","v":0},{"$f":"COUNTIF($L$10:$L$109,\"小学３年\")","v":0}]
[null,"（公認級位未取得者は大会開催日までに公認級位を取得しなければ大会出場はできません。）",null,null,null,null,null,null,null,null,null,4,"小学４年",{"$f":"COUNTIF($K$10:$K$109,\"小学４年\")","v":0},{"$f":"COUNTIF($L$10:$L$109,\"小学４年\")","v":0}]
["番号","会員番号または\n「新規登録中」\nの文字を入力","学年","所属団体名\n（自動入力）","氏　　名","参加種目",null,"公認","公認級未取時\n受審予定日",null,null,5,"小学５年",{"$f":"COUNTIF($K$10:$K$109,\"小学５年\")","v":0},{"$f":"COUNTIF($L$10:$L$109,\"小学５年\")","v":0}]
[null,null,null,null,null,"形","組手","段級位",null,null,null,6,"小学６年",{"$f":"COUNTIF($K$10:$K$109,\"小学６年\")","v":0},{"$f":"COUNTIF($L$10:$L$109,\"小学６年\")","v":0}]
[1,null,null,{"$f":"IF(B10=\"\",\"\",取りまとめシート!$B$5)","v":""},null,null,null,null,null,null,{"$f":"IF(F10=\"〇\",VLOOKUP($C10,$L$3:$M$9,2,0),\"\")","v":""},{"$f":"IF(G10=\"〇\",VLOOKUP($C10,$L$3:$M$9,2,0),\"\")","v":""}]
[2,null,null,{"$f":"IF(B11=\"\",\"\",取りまとめシート!$B$5)","v":""},null,null,null,null,null,null,"",""]
[3,null,null,{"$f":"IF(B12=\"\",\"\",取りまとめシート!$B$5)","v":""},null,null,null,null,null,null,"",""]
[4,null,null,{"$f":"IF(B13=\"\",\"\",取りまとめシート!$B$5)","v":""},null,null,null,null,null,null,"",""]
[5,null,null,{"$f":"IF(B14=\"\",\"\",取りまとめシート!$B$5)","v":""},null,null,null,null,null,null,"",""]
[6,null,null,{"$f":"IF(B15=\"\",\"\",取りまとめシート!$B$5)","v":""},null,null,null,null,null,null,"",""]
[7,null,null,{"$f":"IF(B16=\"\",\"\",取りまとめシート!$B$5)","v":""},null,null,null,null,null,null,"",""]
[8,null,null,{"$f":"IF(B17=\"\",\"\",取りまとめシート!$B$5)","v":""},null,null,null,null,null,null,"",""]
[9,null,null,{"$f":"IF(B18=\"\",\"\",取りまとめシート!$B$5)","v":""},null,null,null,null,null,null,"",""]
[10,null,null,{"$f":"IF(B19=\"\",\"\",取りまとめシート!$B$5)","v":""},null,null,null,null,null,null,"",""]
[11,null,null,{"$f":"IF(B20=\"\",\"\",取りまとめシート!$B$5)","v":""},null,null,null,null,null,null,"",""]
[12,null,null,{"$f":"IF(B21=\"\",\"\",取りまとめシート!$B$5)","v":""},null,null,null,null,null,null,"",""]
[13,null,null,{"$f":"IF(B22=\"\",\"\",取りまとめシート!$B$5)","v":""},null,null,null,null,null,null,"",""]
[14,null,null,{"$f":"IF(B23=\"\",\"\",取りまとめシート!$B$5)","v":""},null,null,null,null,null,null,"",""]
[15,null,null,{"$f":"IF(B24=\"\",\"\",取りまとめシート!$B$5)","v":""},null,null,null,null,null,null,"",""]
[16,null,null,{"$f":"IF(B25=\"\",\"\",取りまとめシート!$B$5)","v":""},null,null,null,null,null,null,"",""]
[17,null,null,{"$f":"IF(B26=\"\",\"\",取りまとめシート!$B$5)","v":""},null,null,null,null,null,null,"",""]
[18,null,null,{"$f":"IF(B27=\"\",\"\",取りまとめシート!$B$5)","v":""},null,null,null,null,null,null,"",""]
[19,null,null,{"$f":"IF(B28=\"\",\"\",取りまとめシート!$B$5)","v":""},null,null,null,null,null,null,"",""]
[20,null,null,{"$f":"IF(B29=\"\",\"\",取りまとめシート!$B$5)","v":""},null,null,null,null,null,null,"",""]
[21,null,null,{"$f":"IF(B30=\"\",\"\",取りまとめシート!$B$5)","v":""},null,null,null,null,null,null,"",""]
[22,null,null,{"$f":"IF(B31=\"\",\"\",取りまとめシート!$B$5)","v":""},null,null,null,null,null,null,"",""]
[23,null,null,{"$f":"IF(B32=\"\",\"\",取りまとめシート!$B$5)","v":""},null,null,null,null,null,null,"",""]
[24,null,null,{"$f":"IF(B33=\"\",\"\",取りまとめシート!$B$5)","v":""},null,null,null,null,null,null,"",""]
[25,null,null,{"$f":"IF(B34=\"\",\"\",取りまとめシート!$B$5)","v":""},null,null,null,null,null,null,"",""]
[26,null,null,{"$f":"IF(B35=\"\",\"\",取りまとめシート!$B$5)","v":""},null,null,null,null,null,null,"",""]
[27,null,null,{"$f":"IF(B36=\"\",\"\",取りまとめシート!$B$5)","v":""},null,null,null,null,null,null,"",""]
[28,null,null,{"$f":"IF(B37=\"\",\"\",取りまとめシート!$B$5)","v":""},null,null,null,null,null,null,"",""]
[29,null,null,{"$f":"IF(B38=\"\",\"\",取りまとめシート!$B$5)","v":""},null,null,null,null,null,null,"",""]
[30,null,null,{"$f":"IF(B39=\"\",\"\",取りまとめシート!$B$5)","v":""},null,null,null,null,null,null,"",""]
[31,null,null,{"$f":"IF(B40=\"\",\"\",取りまとめシート!$B$5)","v":""},null,null,null,null,null,null,"",""]
[32,null,null,{"$f":"IF(B41=\"\",\"\",取りまとめシート!$B$5)","v":""},null,null,null,null,null,null,"",""]
[33,null,null,{"$f":"IF(B42=\"\",\"\",取りまとめシート!$B$5)","v":""},null,null,null,null,null,null,{"$f":"IF(F42=\"〇\",VLOOKUP($C42,$L$3:$M$9,2,0),\"\")","v":""},{"$f":"IF(G42=\"〇\",VLOOKUP($C42,$L$3:$M$9,2,0),\"\")","v":""}]
[34,null,null,{"$f":"IF(B43=\"\",\"\",取りまとめシート!$B$5)","v":""},null,null,null,null,null,null,"",""]
[35,null,null,{"$f":"IF(B44=\"\",\"\",取りまとめシート!$B$5)","v":""},null,null,null,null,null,null,"",""]
[36,null,null,{"$f":"IF(B45=\"\",\"\",取りまとめシート!$B$5)","v":""},null,null,null,null,null,null,"",""]
[37,null,null,{"$f":"IF(B46=\"\",\"\",取りまとめシート!$B$5)","v":""},null,null,null,null,null,null,"",""]
[38,null,null,{"$f":"IF(B47=\"\",\"\",取りまとめシート!$B$5)","v":""},null,null,null,null,null,null,"",""]
[39,null,null,{"$f":"IF(B48=\"\",\"\",取りまとめシート!$B$5)","v":""},null,null,null,null,null,null,"",""]
[40,null,null,{"$f":"IF(B49=\"\",\"\",取りまとめシート!$B$5)","v":""},null,null,null,null,null,null,"",""]
[41,null,null,{"$f":"IF(B50=\"\",\"\",取りまとめシート!$B$5)","v":""},null,null,null,null,null,null,"",""]
[42,null,null,{"$f":"IF(B51=\"\",\"\",取りまとめシート!$B$5)","v":""},null,null,null,null,null,null,"",""]
[43,null,null,{"$f":"IF(B52=\"\",\"\",取りまとめシート!$B$5)","v":""},null,null,null,null,null,null,"",""]
[44,null,null,{"$f":"IF(B53=\"\",\"\",取りまとめシート!$B$5)","v":""},null,null,null,null,null,null,"",""]
[45,null,null,{"$f":"IF(B54=\"\",\"\",取りまとめシート!$B$5)","v":""},null,null,null,null,null,null,"",""]
[46,null,null,{"$f":"IF(B55=\"\",\"\",取りまとめシート!$B$5)","v":""},null,null,null,null,null,null,"",""]
[47,null,null,{"$f":"IF(B56=\"\",\"\",取りまとめシート!$B$5)","v":""},null,null,null,null,null,null,"",""]
[48,null,null,{"$f":"IF(B57=\"\",\"\",取りまとめシート!$B$5)","v":""},null,null,null,null,null,null,"",""]
[49,null,null,{"$f":"IF(B58=\"\",\"\",取りまとめシート!$B$5)","v":""},null,null,null,null,null,null,"",""]
[50,null,null,{"$f":"IF(B59=\"\",\"\",取りまとめシート!$B$5)","v":""},null,null,null,null,null,null,"",""]
[51,null,null,{"$f":"IF(B60=\"\",\"\",取りまとめシート!$B$5)","v":""},null,null,null,null,null,null,"",""]
[52,null,null,{"$f":"IF(B61=\"\",\"\",取りまとめシート!$B$5)","v":""},null,null,null,null,null,null,"",""]
[53,null,null,{"$f":"IF(B62=\"\",\"\",取りまとめシート!$B$5)","v":""},null,null,null,null,null,null,"",""]
[54,null,null,{"$f":"IF(B63=\"\",\"\",取りまとめシート!$B$5)","v":""},null,null,null,null,null,null,"",""]
[55,null,null,{"$f":"IF(B64=\"\",\"\",取りまとめシート!$B$5)","v":""},null,null,null,null,null,null,"",""]
[56,null,null,{"$f":"IF(B65=\"\",\"\",取りまとめシート!$B$5)","v":""},null,null,null,null,null,null,"",""]
[57,null,null,{"$f":"IF(B66=\"\",\"\",取りまとめシート!$B$5)","v":""},null,null,null,null,null,null,"",""]
[58,null,null,{"$f":"IF(B67=\"\",\"\",取りまとめシート!$B$5)","v":""},null,null,null,null,null,null,"",""]
[59,null,null,{"$f":"IF(B68=\"\",\"\",取りまとめシート!$B$5)","v":""},null,null,null,null,null,null,"",""]
[60,null,null,{"$f":"IF(B69=\"\",\"\",取りまとめシート!$B$5)","v":""},null,null,null,null,null,null,"",""]
[61,null,null,{"$f":"IF(B70=\"\",\"\",取りまとめシート!$B$5)","v":""},null,null,null,null,null,null,"",""]
[62,null,null,{"$f":"IF(B71=\"\",\"\",取りまとめシート!$B$5)","v":""},null,null,null,null,null,null,"",""]
[63,null,null,{"$f":"IF(B72=\"\",\"\",取りまとめシート!$B$5)","v":""},null,null,null,null,null,null,"",""]
[64,null,null,{"$f":"IF(B73=\"\",\"\",取りまとめシート!$B$5)","v":""},null,null,null,null,null,null,"",""]
[65,null,null,{"$f":"IF(B74=\"\",\"\",取りまとめシート!$B$5)","v":""},null,null,null,null,null,null,{"$f":"IF(F74=\"〇\",VLOOKUP($C74,$L$3:$M$9,2,0),\"\")","v":""},{"$f":"IF(G74=\"〇\",VLOOKUP($C74,$L$3:$M$9,2,0),\"\")","v":""}]
[66,null,null,{"$f":"IF(B75=\"\",\"\",取りまとめシート!$B$5)","v":""},null,null,null,null,null,null,"",""]
[67,null,null,{"$f":"IF(B76=\"\",\"\",取りまとめシート!$B$5)","v":""},null,null,null,null,null,null,"",""]
[68,null,null,{"$f":"IF(B77=\"\",\"\",取りまとめシート!$B$5)","v":""},null,null,null,null,null,null,"",""]
[69,null,null,{"$f":"IF(B78=\"\",\"\",取りまとめシート!$B$5)","v":""},null,null,null,null,null,null,"",""]
[70,null,null,{"$f":"IF(B79=\"\",\"\",取りまとめシート!$B$5)","v":""},null,null,null,null,null,null,"",""]
[71,null,null,{"$f":"IF(B80=\"\",\"\",取りまとめシート!$B$5)","v":""},null,null,null,null,null,null,"",""]
[72,null,null,{"$f":"IF(B81=\"\",\"\",取りまとめシート!$B$5)","v":""},null,null,null,null,null,null,"",""]
[73,null,null,{"$f":"IF(B82=\"\",\"\",取りまとめシート!$B$5)","v":""},null,null,null,null,null,null,"",""]
[74,null,null,{"$f":"IF(B83=\"\",\"\",取りまとめシート!$B$5)","v":""},null,null,null,null,null,null,"",""]
[75,null,null,{"$f":"IF(B84=\"\",\"\",取りまとめシート!$B$5)","v":""},null,null,null,null,null,null,"",""]
[76,null,null,{"$f":"IF(B85=\"\",\"\",取りまとめシート!$B$5)","v":""},null,null,null,null,null,null,"",""]
[77,null,null,{"$f":"IF(B86=\"\",\"\",取りまとめシート!$B$5)","v":""},null,null,null,null,null,null,"",""]
[78,null,null,{"$f":"IF(B87=\"\",\"\",取りまとめシート!$B$5)","v":""},null,null,null,null,null,null,"",""]
[79,null,null,{"$f":"IF(B88=\"\",\"\",取りまとめシート!$B$5)","v":""},null,null,null,null,null,null,"",""]
[80,null,null,{"$f":"IF(B89=\"\",\"\",取りまとめシート!$B$5)","v":""},null,null,null,null,null,null,"",""]
[81,null,null,{"$f":"IF(B90=\"\",\"\",取りまとめシート!$B$5)","v":""},null,null,null,null,null,null,"",""]
[82,null,null,{"$f":"IF(B91=\"\",\"\",取りまとめシート!$B$5)","v":""},null,null,null,null,null,null,"",""]
[83,null,null,{"$f":"IF(B92=\"\",\"\",取りまとめシート!$B$5)","v":""},null,null,null,null,null,null,"",""]
[84,null,null,{"$f":"IF(B93=\"\",\"\",取りまとめシート!$B$5)","v":""},null,null,null,null,null,null,"",""]
[85,null,null,{"$f":"IF(B94=\"\",\"\",取りまとめシート!$B$5)","v":""},null,null,null,null,null,null,"",""]
[86,null,null,{"$f":"IF(B95=\"\",\"\",取りまとめシート!$B$5)","v":""},null,null,null,null,null,null,"",""]
[87,null,null,{"$f":"IF(B96=\"\",\"\",取りまとめシート!$B$5)","v":""},null,null,null,null,null,null,"",""]
[88,null,null,{"$f":"IF(B97=\"\",\"\",取りまとめシート!$B$5)","v":""},null,null,null,null,null,null,"",""]
[89,null,null,{"$f":"IF(B98=\"\",\"\",取りまとめシート!$B$5)","v":""},null,null,null,null,null,null,"",""]
[90,null,null,{"$f":"IF(B99=\"\",\"\",取りまとめシート!$B$5)","v":""},null,null,null,null,null,null,"",""]
[91,null,null,{"$f":"IF(B100=\"\",\"\",取りまとめシート!$B$5)","v":""},null,null,null,null,null,null,"",""]
[92,null,null,{"$f":"IF(B101=\"\",\"\",取りまとめシート!$B$5)","v":""},null,null,null,null,null,null,"",""]
[93,null,null,{"$f":"IF(B102=\"\",\"\",取りまとめシート!$B$5)","v":""},null,null,null,null,null,null,"",""]
[94,null,null,{"$f":"IF(B103=\"\",\"\",取りまとめシート!$B$5)","v":""},null,null,null,null,null,null,"",""]
[95,null,null,{"$f":"IF(B104=\"\",\"\",取りまとめシート!$B$5)","v":""},null,null,null,null,null,null,"",""]
[96,null,null,{"$f":"IF(B105=\"\",\"\",取りまとめシート!$B$5)","v":""},null,null,null,null,null,null,"",""]
[97,null,null,{"$f":"IF(B106=\"\",\"\",取りまとめシート!$B$5)","v":""},null,null,null,null,null,null,"",""]
[98,null,null,{"$f":"IF(B107=\"\",\"\",取りまとめシート!$B$5)","v":""},null,null,null,null,null,null,"",""]
[99,null,null,{"$f":"IF(B108=\"\",\"\",取りまとめシート!$B$5)","v":""},null,null,null,null,null,null,"",""]
[100,null,null,{"$f":"IF(B109=\"\",\"\",取りまとめシート!$B$5)","v":""},null,null,null,null,null,null,"",""]

{"sheet":"女子申込(形・組手共通) ","index":2,"n_rows":109,"n_cols":15,"rows_kept":109,"cut":false,"hidden":false,"merged":[[7,8,8,8],[7,0,8,0],[7,2,8,2],[7,3,8,3],[7,4,8,4],[7,5,7,6],[7,1,8,1],[1,12,2,12],[1,13,2,13],[1,14,2,14],[0,0,0,8],[0,12,0,14],[1,0,2,8]]}
["宮崎県少年少女空手道選手権大会　参加申込書（女子）",null,null,null,null,null,null,null,null,null,null,null,"参加人数表（女子）"]
["注意１：令和６年度の新学年での記入です。十分ご注意下さい。\n注意２：名前は左詰めです。姓の前にスペースを入れないで下さい。\n注意３：姓と名の間は必ずスペースを入れて下さい。",null,null,null,null,null,null,null,null,null,null,null,"学年","形","組手"]
[]
[null,"☆小学生以上は公認段または級位取得者でないと大会に参加できません。",null,null,null,null,null,null,null,null,null,1,"小学１年",{"$f":"COUNTIF($K$10:$K$109,\"小学１年\")","v":0},{"$f":"COUNTIF($L$10:$L$109,\"小学１年\")","v":0}]
[null,"下記の段級位欄には、道場段級位ではなくJKF公認段級位を記入してください。",null,null,null,null,null,null,null,null,"〇",2,"小学２年",{"$f":"COUNTIF($K$10:$K$109,\"小学２年\")","v":0},{"$f":"COUNTIF($L$10:$L$109,\"小学２年\")","v":0}]
[null,"なお、申込時に未取得の場合は、予定日に４／〇と入力の上、取得予定級を級位欄に入力下さい。",null,null,null,null,null,null,null,null,"－",3,"小学３年",{"$f":"COUNTIF($K$10:$K$109,\"小学３年\")","v":0},{"$f":"COUNTIF($L$10:$L$109,\"小学３年\")","v":0}]
[null,"（公認級位未取得者は大会開催日までに公認級位を取得しなければ大会出場はできません。）",null,null,null,null,null,null,null,null,null,4,"小学４年",{"$f":"COUNTIF($K$10:$K$109,\"小学４年\")","v":0},{"$f":"COUNTIF($L$10:$L$109,\"小学４年\")","v":0}]
["番号","会員番号または\n「新規登録中」\nの文字を入力","学年","所属団体名\n（自動入力）","氏　　名","参加種目",null,"公認","公認級未取時\n受審予定日",null,null,5,"小学５年",{"$f":"COUNTIF($K$10:$K$109,\"小学５年\")","v":0},{"$f":"COUNTIF($L$10:$L$109,\"小学５年\")","v":0}]
[null,null,null,null,null,"形","組手","段級位",null,null,null,6,"小学６年",{"$f":"COUNTIF($K$10:$K$109,\"小学６年\")","v":0},{"$f":"COUNTIF($L$10:$L$109,\"小学６年\")","v":0}]
[1,null,null,{"$f":"IF(B10=\"\",\"\",取りまとめシート!$B$5)","v":""},null,null,null,null,null,null,{"$f":"IF(F10=\"〇\",VLOOKUP($C10,$L$3:$M$9,2,0),\"\")","v":""},{"$f":"IF(G10=\"〇\",VLOOKUP($C10,$L$3:$M$9,2,0),\"\")","v":""}]
[2,null,null,{"$f":"IF(B11=\"\",\"\",取りまとめシート!$B$5)","v":""},null,null,null,null,null,null,"",""]
[3,null,null,{"$f":"IF(B12=\"\",\"\",取りまとめシート!$B$5)","v":""},null,null,null,null,null,null,"",""]
[4,null,null,{"$f":"IF(B13=\"\",\"\",取りまとめシート!$B$5)","v":""},null,null,null,null,null,null,"",""]
[5,null,null,{"$f":"IF(B14=\"\",\"\",取りまとめシート!$B$5)","v":""},null,null,null,null,null,null,"",""]
[6,null,null,{"$f":"IF(B15=\"\",\"\",取りまとめシート!$B$5)","v":""},null,null,null,null,null,null,"",""]
[7,null,null,{"$f":"IF(B16=\"\",\"\",取りまとめシート!$B$5)","v":""},null,null,null,null,null,null,"",""]
[8,null,null,{"$f":"IF(B17=\"\",\"\",取りまとめシート!$B$5)","v":""},null,null,null,null,null,null,"",""]
[9,null,null,{"$f":"IF(B18=\"\",\"\",取りまとめシート!$B$5)","v":""},null,null,null,null,null,null,"",""]
[10,null,null,{"$f":"IF(B19=\"\",\"\",取りまとめシート!$B$5)","v":""},null,null,null,null,null,null,"",""]
[11,null,null,{"$f":"IF(B20=\"\",\"\",取りまとめシート!$B$5)","v":""},null,null,null,null,null,null,"",""]
[12,null,null,{"$f":"IF(B21=\"\",\"\",取りまとめシート!$B$5)","v":""},null,null,null,null,null,null,"",""]
[13,null,null,{"$f":"IF(B22=\"\",\"\",取りまとめシート!$B$5)","v":""},null,null,null,null,null,null,"",""]
[14,null,null,{"$f":"IF(B23=\"\",\"\",取りまとめシート!$B$5)","v":""},null,null,null,null,null,null,"",""]
[15,null,null,{"$f":"IF(B24=\"\",\"\",取りまとめシート!$B$5)","v":""},null,null,null,null,null,null,"",""]
[16,null,null,{"$f":"IF(B25=\"\",\"\",取りまとめシート!$B$5)","v":""},null,null,null,null,null,null,"",""]
[17,null,null,{"$f":"IF(B26=\"\",\"\",取りまとめシート!$B$5)","v":""},null,null,null,null,null,null,"",""]
[18,null,null,{"$f":"IF(B27=\"\",\"\",取りまとめシート!$B$5)","v":""},null,null,null,null,null,null,"",""]
[19,null,null,{"$f":"IF(B28=\"\",\"\",取りまとめシート!$B$5)","v":""},null,null,null,null,null,null,"",""]
[20,null,null,{"$f":"IF(B29=\"\",\"\",取りまとめシート!$B$5)","v":""},null,null,null,null,null,null,"",""]
[21,null,null,{"$f":"IF(B30=\"\",\"\",取りまとめシート!$B$5)","v":""},null,null,null,null,null,null,"",""]
[22,null,null,{"$f":"IF(B31=\"\",\"\",取りまとめシート!$B$5)","v":""},null,null,null,null,null,null,"",""]
[23,null,null,{"$f":"IF(B32=\"\",\"\",取りまとめシート!$B$5)","v":""},null,null,null,null,null,null,"",""]
[24,null,null,{"$f":"IF(B33=\"\",\"\",取りまとめシート!$B$5)","v":""},null,null,null,null,null,null,"",""]
[25,null,null,{"$f":"IF(B34=\"\",\"\",取りまとめシート!$B$5)","v":""},null,null,null,null,null,null,"",""]
[26,null,null,{"$f":"IF(B35=\"\",\"\",取りまとめシート!$B$5)","v":""},null,null,null,null,null,null,"",""]
[27,null,null,{"$f":"IF(B36=\"\",\"\",取りまとめシート!$B$5)","v":""},null,null,null,null,null,null,"",""]
[28,null,null,{"$f":"IF(B37=\"\",\"\",取りまとめシート!$B$5)","v":""},null,null,null,null,null,null,"",""]
[29,null,null,{"$f":"IF(B38=\"\",\"\",取りまとめシート!$B$5)","v":""},null,null,null,null,null,null,"",""]
[30,null,null,{"$f":"IF(B39=\"\",\"\",取りまとめシート!$B$5)","v":""},null,null,null,null,null,null,"",""]
[31,null,null,{"$f":"IF(B40=\"\",\"\",取りまとめシート!$B$5)","v":""},null,null,null,null,null,null,"",""]
[32,null,null,{"$f":"IF(B41=\"\",\"\",取りまとめシート!$B$5)","v":""},null,null,null,null,null,null,"",""]
[33,null,null,{"$f":"IF(B42=\"\",\"\",取りまとめシート!$B$5)","v":""},null,null,null,null,null,null,{"$f":"IF(F42=\"〇\",VLOOKUP($C42,$L$3:$M$9,2,0),\"\")","v":""},{"$f":"IF(G42=\"〇\",VLOOKUP($C42,$L$3:$M$9,2,0),\"\")","v":""}]
[34,null,null,{"$f":"IF(B43=\"\",\"\",取りまとめシート!$B$5)","v":""},null,null,null,null,null,null,"",""]
[35,null,null,{"$f":"IF(B44=\"\",\"\",取りまとめシート!$B$5)","v":""},null,null,null,null,null,null,"",""]
[36,null,null,{"$f":"IF(B45=\"\",\"\",取りまとめシート!$B$5)","v":""},null,null,null,null,null,null,"",""]
[37,null,null,{"$f":"IF(B46=\"\",\"\",取りまとめシート!$B$5)","v":""},null,null,null,null,null,null,"",""]
[38,null,null,{"$f":"IF(B47=\"\",\"\",取りまとめシート!$B$5)","v":""},null,null,null,null,null,null,"",""]
[39,null,null,{"$f":"IF(B48=\"\",\"\",取りまとめシート!$B$5)","v":""},null,null,null,null,null,null,"",""]
[40,null,null,{"$f":"IF(B49=\"\",\"\",取りまとめシート!$B$5)","v":""},null,null,null,null,null,null,"",""]
[41,null,null,{"$f":"IF(B50=\"\",\"\",取りまとめシート!$B$5)","v":""},null,null,null,null,null,null,"",""]
[42,null,null,{"$f":"IF(B51=\"\",\"\",取りまとめシート!$B$5)","v":""},null,null,null,null,null,null,"",""]
[43,null,null,{"$f":"IF(B52=\"\",\"\",取りまとめシート!$B$5)","v":""},null,null,null,null,null,null,"",""]
[44,null,null,{"$f":"IF(B53=\"\",\"\",取りまとめシート!$B$5)","v":""},null,null,null,null,null,null,"",""]
[45,null,null,{"$f":"IF(B54=\"\",\"\",取りまとめシート!$B$5)","v":""},null,null,null,null,null,null,"",""]
[46,null,null,{"$f":"IF(B55=\"\",\"\",取りまとめシート!$B$5)","v":""},null,null,null,null,null,null,"",""]
[47,null,null,{"$f":"IF(B56=\"\",\"\",取りまとめシート!$B$5)","v":""},null,null,null,null,null,null,"",""]
[48,null,null,{"$f":"IF(B57=\"\",\"\",取りまとめシート!$B$5)","v":""},null,null,null,null,null,null,"",""]
[49,null,null,{"$f":"IF(B58=\"\",\"\",取りまとめシート!$B$5)","v":""},null,null,null,null,null,null,"",""]
[50,null,null,{"$f":"IF(B59=\"\",\"\",取りまとめシート!$B$5)","v":""},null,null,null,null,null,null,"",""]
[51,null,null,{"$f":"IF(B60=\"\",\"\",取りまとめシート!$B$5)","v":""},null,null,null,null,null,null,"",""]
[52,null,null,{"$f":"IF(B61=\"\",\"\",取りまとめシート!$B$5)","v":""},null,null,null,null,null,null,"",""]
[53,null,null,{"$f":"IF(B62=\"\",\"\",取りまとめシート!$B$5)","v":""},null,null,null,null,null,null,"",""]
[54,null,null,{"$f":"IF(B63=\"\",\"\",取りまとめシート!$B$5)","v":""},null,null,null,null,null,null,"",""]
[55,null,null,{"$f":"IF(B64=\"\",\"\",取りまとめシート!$B$5)","v":""},null,null,null,null,null,null,"",""]
[56,null,null,{"$f":"IF(B65=\"\",\"\",取りまとめシート!$B$5)","v":""},null,null,null,null,null,null,"",""]
[57,null,null,{"$f":"IF(B66=\"\",\"\",取りまとめシート!$B$5)","v":""},null,null,null,null,null,null,"",""]
[58,null,null,{"$f":"IF(B67=\"\",\"\",取りまとめシート!$B$5)","v":""},null,null,null,null,null,null,"",""]
[59,null,null,{"$f":"IF(B68=\"\",\"\",取りまとめシート!$B$5)","v":""},null,null,null,null,null,null,"",""]
[60,null,null,{"$f":"IF(B69=\"\",\"\",取りまとめシート!$B$5)","v":""},null,null,null,null,null,null,"",""]
[61,null,null,{"$f":"IF(B70=\"\",\"\",取りまとめシート!$B$5)","v":""},null,null,null,null,null,null,"",""]
[62,null,null,{"$f":"IF(B71=\"\",\"\",取りまとめシート!$B$5)","v":""},null,null,null,null,null,null,"",""]
[63,null,null,{"$f":"IF(B72=\"\",\"\",取りまとめシート!$B$5)","v":""},null,null,null,null,null,null,"",""]
[64,null,null,{"$f":"IF(B73=\"\",\"\",取りまとめシート!$B$5)","v":""},null,null,null,null,null,null,"",""]
[65,null,null,{"$f":"IF(B74=\"\",\"\",取りまとめシート!$B$5)","v":""},null,null,null,null,null,null,{"$f":"IF(F74=\"〇\",VLOOKUP($C74,$L$3:$M$9,2,0),\"\")","v":""},{"$f":"IF(G74=\"〇\",VLOOKUP($C74,$L$3:$M$9,2,0),\"\")","v":""}]
[66,null,null,{"$f":"IF(B75=\"\",\"\",取りまとめシート!$B$5)","v":""},null,null,null,null,null,null,"",""]
[67,null,null,{"$f":"IF(B76=\"\",\"\",取りまとめシート!$B$5)","v":""},null,null,null,null,null,null,"",""]
[68,null,null,{"$f":"IF(B77=\"\",\"\",取りまとめシート!$B$5)","v":""},null,null,null,null,null,null,"",""]
[69,null,null,{"$f":"IF(B78=\"\",\"\",取りまとめシート!$B$5)","v":""},null,null,null,null,null,null,"",""]
[70,null,null,{"$f":"IF(B79=\"\",\"\",取りまとめシート!$B$5)","v":""},null,null,null,null,null,null,"",""]
[71,null,null,{"$f":"IF(B80=\"\",\"\",取りまとめシート!$B$5)","v":""},null,null,null,null,null,null,"",""]
[72,null,null,{"$f":"IF(B81=\"\",\"\",取りまとめシート!$B$5)","v":""},null,null,null,null,null,null,"",""]
[73,null,null,{"$f":"IF(B82=\"\",\"\",取りまとめシート!$B$5)","v":""},null,null,null,null,null,null,"",""]
[74,null,null,{"$f":"IF(B83=\"\",\"\",取りまとめシート!$B$5)","v":""},null,null,null,null,null,null,"",""]
[75,null,null,{"$f":"IF(B84=\"\",\"\",取りまとめシート!$B$5)","v":""},null,null,null,null,null,null,"",""]
[76,null,null,{"$f":"IF(B85=\"\",\"\",取りまとめシート!$B$5)","v":""},null,null,null,null,null,null,"",""]
[77,null,null,{"$f":"IF(B86=\"\",\"\",取りまとめシート!$B$5)","v":""},null,null,null,null,null,null,"",""]
[78,null,null,{"$f":"IF(B87=\"\",\"\",取りまとめシート!$B$5)","v":""},null,null,null,null,null,null,"",""]
[79,null,null,{"$f":"IF(B88=\"\",\"\",取りまとめシート!$B$5)","v":""},null,null,null,null,null,null,"",""]
[80,null,null,{"$f":"IF(B89=\"\",\"\",取りまとめシート!$B$5)","v":""},null,null,null,null,null,null,"",""]
[81,null,null,{"$f":"IF(B90=\"\",\"\",取りまとめシート!$B$5)","v":""},null,null,null,null,null,null,"",""]
[82,null,null,{"$f":"IF(B91=\"\",\"\",取りまとめシート!$B$5)","v":""},null,null,null,null,null,null,"",""]
[83,null,null,{"$f":"IF(B92=\"\",\"\",取りまとめシート!$B$5)","v":""},null,null,null,null,null,null,"",""]
[84,null,null,{"$f":"IF(B93=\"\",\"\",取りまとめシート!$B$5)","v":""},null,null,null,null,null,null,"",""]
[85,null,null,{"$f":"IF(B94=\"\",\"\",取りまとめシート!$B$5)","v":""},null,null,null,null,null,null,"",""]
[86,null,null,{"$f":"IF(B95=\"\",\"\",取りまとめシート!$B$5)","v":""},null,null,null,null,null,null,"",""]
[87,null,null,{"$f":"IF(B96=\"\",\"\",取りまとめシート!$B$5)","v":""},null,null,null,null,null,null,"",""]
[88,null,null,{"$f":"IF(B97=\"\",\"\",取りまとめシート!$B$5)","v":""},null,null,null,null,null,null,"",""]
[89,null,null,{"$f":"IF(B98=\"\",\"\",取りまとめシート!$B$5)","v":""},null,null,null,null,null,null,"",""]
[90,null,null,{"$f":"IF(B99=\"\",\"\",取りまとめシート!$B$5)","v":""},null,null,null,null,null,null,"",""]
[91,null,null,{"$f":"IF(B100=\"\",\"\",取りまとめシート!$B$5)","v":""},null,null,null,null,null,null,"",""]
[92,null,null,{"$f":"IF(B101=\"\",\"\",取りまとめシート!$B$5)","v":""},null,null,null,null,null,null,"",""]
[93,null,null,{"$f":"IF(B102=\"\",\"\",取りまとめシート!$B$5)","v":""},null,null,null,null,null,null,"",""]
[94,null,null,{"$f":"IF(B103=\"\",\"\",取りまとめシート!$B$5)","v":""},null,null,null,null,null,null,"",""]
[95,null,null,{"$f":"IF(B104=\"\",\"\",取りまとめシート!$B$5)","v":""},null,null,null,null,null,null,"",""]
[96,null,null,{"$f":"IF(B105=\"\",\"\",取りまとめシート!$B$5)","v":""},null,null,null,null,null,null,"",""]
[97,null,null,{"$f":"IF(B106=\"\",\"\",取りまとめシート!$B$5)","v":""},null,null,null,null,null,null,"",""]
[98,null,null,{"$f":"IF(B107=\"\",\"\",取りまとめシート!$B$5)","v":""},null,null,null,null,null,null,"",""]
[99,null,null,{"$f":"IF(B108=\"\",\"\",取りまとめシート!$B$5)","v":""},null,null,null,null,null,null,"",""]
[100,null,null,{"$f":"IF(B109=\"\",\"\",取りまとめシート!$B$5)","v":""},null,null,null,null,null,null,"",""]