{"text_format":"1","workbook":"xlsx","n_sheets":4,"sheets":["取りまとめシート","男子申込(形・組手共通)","女子申込(形・組手共通) ","設定"],"not_rendered":{"charts":0,"images":0,"macros":1,"external_links":0,"defined_names":0,"comments":2,"pivot_tables":0},"unopened":[],"bounds":{"document_bytes":16777216,"sheet_cells":100000,"rows_first":2000,"rows_last":500,"rows_between":2000,"halvings":0,"cell_chars":16384,"cell_head_chars":4096},"cells_cut":0,"cells_raw":0,"read":"whole","date_system":"1900"}

{"sheet":"取りまとめシート","index":0,"n_rows":12,"n_cols":7,"rows_kept":12,"cut":false,"hidden":false,"merged":[[5,1,5,6],[3,0,4,0],[0,0,0,6],[1,5,1,6],[1,2,1,4]]}
[{"$f":"設定!A4&\"年　UMKスポーツフェスタ申込取りまとめ表\"","v":"2024年　UMKスポーツフェスタ申込取りまとめ表"}]
[null,"申込ファイル送信先",{"$f":"HYPERLINK(\"mailto:\"&設定!D4&\"?subject=\"&設定!E4&\"(\"&B5&\")\"&\"\",設定!D4&\"（クリックで送信準備）\")","v":"a.ggae.xpx@gmail.com（クリックで送信準備）"}]
[null,"申込締切",{"$f":"設定!C4","v":"2024-02-02"},"(金）※申込締切までにメールにて申込む事。（期限厳守）"]
["入力必須\n項　　目","団体名","申込責任者","連絡先携帯番号","全項目入力終了後\n下記ボタンで保存"]
[]
[null,"　　　　　　※黄色いセルに入力し各申込シートに入力してください。（自動計算されます。）"]
[]
["団体名","種目","小学３年","小学４年","小学５年","小学６年","合計"]
[{"$f":"$B$5","v":0},"男子形",{"$f":"'男子申込(形・組手共通)'!$L$3","v":0},{"$f":"'男子申込(形・組手共通)'!$L$4","v":0},{"$f":"'男子申込(形・組手共通)'!$L$5","v":0},{"$f":"'男子申込(形・組手共通)'!$L$6","v":0},{"$f":"SUM(C9:F9)","v":0}]
[{"$f":"$B$5","v":0},"男子組手",{"$f":"'男子申込(形・組手共通)'!$M$3","v":0},{"$f":"'男子申込(形・組手共通)'!$M$4","v":0},{"$f":"'男子申込(形・組手共通)'!$M$5","v":0},{"$f":"'男子申込(形・組手共通)'!$M$6","v":0},{"$f":"SUM(C10:F10)","v":0}]
[{"$f":"$B$5","v":0},"女子形",{"$f":"'女子申込(形・組手共通) '!$L$3","v":0},{"$f":"'女子申込(形・組手共通) '!$L$4","v":0},{"$f":"'女子申込(形・組手共通) '!$L$5","v":0},{"$f":"'女子申込(形・組手共通) '!$L$6","v":0},{"$f":"SUM(C11:F11)","v":0}]
[{"$f":"$B$5","v":0},"女子組手",{"$f":"'女子申込(形・組手共通) '!$M$3","v":0},{"$f":"'女子申込(形・組手共通) '!$M$4","v":0},{"$f":"'女子申込(形・組手共通) '!$M$5","v":0},{"$f":"'女子申込(形・組手共通) '!$M$6","v":0},{"$f":"SUM(C12:F12)","v":0}]

{"sheet":"男子申込(形・組手共通)","index":1,"n_rows":104,"n_cols":13,"rows_kept":104,"cut":false,"hidden":false,"merged":[[0,10,0,12],[2,0,3,0],[2,2,3,2],[2,4,2,5],[2,3,3,3],[2,1,3,1],[0,0,1,5]]}
["UMKスポーツフェスタ　参加申込書（男子）",null,null,null,null,null,null,null,null,null,"参加人数表（男子）"]
[null,null,null,null,null,null,null,null,null,null,"学年","形","組手"]
["番号","学年","所属団体名\n（自動入力）","氏　　名","参加種目",null,null,null,null,"小３","小学３年",{"$f":"COUNTIF($G$5:$G$104,K3)","v":0},{"$f":"COUNTIF($H$3:$H$104,K3)","v":0}]
[null,null,null,null,"形","組手",null,null,null,"小４","小学４年",{"$f":"COUNTIF($G$5:$G$104,K4)","v":0},{"$f":"COUNTIF($H$3:$H$104,K4)","v":0}]
[1,null,{"$f":"IF(D5=\"\",\"\",取りまとめシート!$B$5)","v":""},null,null,null,{"$f":"IF(E5=\"〇\",VLOOKUP($B5,$J$3:$K$6,2,0),\"\")","v":""},{"$f":"IF(F5=\"〇\",VLOOKUP($B5,$J$3:$K$6,2,0),\"\")","v":""},"〇","小５","小学５年",{"$f":"COUNTIF($G$5:$G$104,K5)","v":0},{"$f":"COUNTIF($H$3:$H$104,K5)","v":0}]
[2,null,{"$f":"IF(D6=\"\",\"\",取りまとめシート!$B$5)","v":""},null,null,null,"","","－","小６","小学６年",{"$f":"COUNTIF($G$5:$G$104,K6)","v":0},{"$f":"COUNTIF($H$3:$H$104,K6)","v":0}]
[3,null,{"$f":"IF(D7=\"\",\"\",取りまとめシート!$B$5)","v":""},null,null,null,"",""]
[4,null,{"$f":"IF(D8=\"\",\"\",取りまとめシート!$B$5)","v":""},null,null,null,"",""]
[5,null,{"$f":"IF(D9=\"\",\"\",取りまとめシート!$B$5)","v":""},null,null,null,"",""]
[6,null,{"$f":"IF(D10=\"\",\"\",取りまとめシート!$B$5)","v":""},null,null,null,"",""]
[7,null,{"$f":"IF(D11=\"\",\"\",取りまとめシート!$B$5)","v":""},null,null,null,"",""]
[8,null,{"$f":"IF(D12=\"\",\"\",取りまとめシート!$B$5)","v":""},null,null,null,"",""]
[9,null,{"$f":"IF(D13=\"\",\"\",取りまとめシート!$B$5)","v":""},null,null,null,"",""]
[10,null,{"$f":"IF(D14=\"\",\"\",取りまとめシート!$B$5)","v":""},null,null,null,"",""]
[11,null,{"$f":"IF(D15=\"\",\"\",取りまとめシート!$B$5)","v":""},null,null,null,"",""]
[12,null,{"$f":"IF(D16=\"\",\"\",取りまとめシート!$B$5)","v":""},null,null,null,"",""]
[13,null,{"$f":"IF(D17=\"\",\"\",取りまとめシート!$B$5)","v":""},null,null,null,"",""]
[14,null,{"$f":"IF(D18=\"\",\"\",取りまとめシート!$B$5)","v":""},null,null,null,"",""]
[15,null,{"$f":"IF(D19=\"\",\"\",取りまとめシート!$B$5)","v":""},null,null,null,"",""]
[16,null,{"$f":"IF(D20=\"\",\"\",取りまとめシート!$B$5)","v":""},null,null,null,"",""]
[17,null,{"$f":"IF(D21=\"\",\"\",取りまとめシート!$B$5)","v":""},null,null,null,"",""]
[18,null,{"$f":"IF(D22=\"\",\"\",取りまとめシート!$B$5)","v":""},null,null,null,"",""]
[19,null,{"$f":"IF(D23=\"\",\"\",取りまとめシート!$B$5)","v":""},null,null,null,"",""]
[20,null,{"$f":"IF(D24=\"\",\"\",取りまとめシート!$B$5)","v":""},null,null,null,"",""]
[21,null,{"$f":"IF(D25=\"\",\"\",取りまとめシート!$B$5)","v":""},null,null,null,"",""]
[22,null,{"$f":"IF(D26=\"\",\"\",取りまとめシート!$B$5)","v":""},null,null,null,"",""]
[23,null,{"$f":"IF(D27=\"\",\"\",取りまとめシート!$B$5)","v":""},null,null,null,"",""]
[24,null,{"$f":"IF(D28=\"\",\"\",取りまとめシート!$B$5)","v":""},null,null,null,"",""]
[25,null,{"$f":"IF(D29=\"\",\"\",取りまとめシート!$B$5)","v":""},null,null,null,"",""]
[26,null,{"$f":"IF(D30=\"\",\"\",取りまとめシート!$B$5)","v":""},null,null,null,"",""]
[27,null,{"$f":"IF(D31=\"\",\"\",取りまとめシート!$B$5)","v":""},null,null,null,"",""]
[28,null,{"$f":"IF(D32=\"\",\"\",取りまとめシート!$B$5)","v":""},null,null,null,"",""]
[29,null,{"$f":"IF(D33=\"\",\"\",取りまとめシート!$B$5)","v":""},null,null,null,"",""]
[30,null,{"$f":"IF(D34=\"\",\"\",取りまとめシート!$B$5)","v":""},null,null,null,"",""]
[31,null,{"$f":"IF(D35=\"\",\"\",取りまとめシート!$B$5)","v":""},null,null,null,"",""]
[32,null,{"$f":"IF(D36=\"\",\"\",取りまとめシート!$B$5)","v":""},null,null,null,"",""]
[33,null,{"$f":"IF(D37=\"\",\"\",取りまとめシート!$B$5)","v":""},null,null,null,{"$f":"IF(E37=\"〇\",VLOOKUP($B37,$J$3:$K$6,2,0),\"\")","v":""},{"$f":"IF(F37=\"〇\",VLOOKUP($B37,$J$3:$K$6,2,0),\"\")","v":""}]
[34,null,{"$f":"IF(D38=\"\",\"\",取りまとめシート!$B$5)","v":""},null,null,null,"",""]
[35,null,{"$f":"IF(D39=\"\",\"\",取りまとめシート!$B$5)","v":""},null,null,null,"",""]
[36,null,{"$f":"IF(D40=\"\",\"\",取りまとめシート!$B$5)","v":""},null,null,null,"",""]
[37,null,{"$f":"IF(D41=\"\",\"\",取りまとめシート!$B$5)","v":""},null,null,null,"",""]
[38,null,{"$f":"IF(D42=\"\",\"\",取りまとめシート!$B$5)","v":""},null,null,null,"",""]
[39,null,{"$f":"IF(D43=\"\",\"\",取りまとめシート!$B$5)","v":""},null,null,null,"",""]
[40,null,{"$f":"IF(D44=\"\",\"\",取りまとめシート!$B$5)","v":""},null,null,null,"",""]
[41,null,{"$f":"IF(D45=\"\",\"\",取りまとめシート!$B$5)","v":""},null,null,null,"",""]
[42,null,{"$f":"IF(D46=\"\",\"\",取りまとめシート!$B$5)","v":""},null,null,null,"",""]
[43,null,{"$f":"IF(D47=\"\",\"\",取りまとめシート!$B$5)","v":""},null,null,null,"",""]
[44,null,{"$f":"IF(D48=\"\",\"\",取りまとめシート!$B$5)","v":""},null,null,null,"",""]
[45,null,{"$f":"IF(D49=\"\",\"\",取りまとめシート!$B$5)","v":""},null,null,null,"",""]
[46,null,{"$f":"IF(D50=\"\",\"\",取りまとめシート!$B$5)","v":""},null,null,null,"",""]
[47,null,{"$f":"IF(D51=\"\",\"\",取りまとめシート!$B$5)","v":""},null,null,null,"",""]
[48,null,{"$f":"IF(D52=\"\",\"\",取りまとめシート!$B$5)","v":""},null,null,null,"",""]
[49,null,{"$f":"IF(D53=\"\",\"\",取りまとめシート!$B$5)","v":""},null,null,null,"",""]
[50,null,{"$f":"IF(D54=\"\",\"\",取りまとめシート!$B$5)","v":""},null,null,null,"",""]
[51,null,{"$f":"IF(D55=\"\",\"\",取りまとめシート!$B$5)","v":""},null,null,null,"",""]
[52,null,{"$f":"IF(D56=\"\",\"\",取りまとめシート!$B$5)","v":""},null,null,null,"",""]
[53,null,{"$f":"IF(D57=\"\",\"\",取りまとめシート!$B$5)","v":""},null,null,null,"",""]
[54,null,{"$f":"IF(D58=\"\",\"\",取りまとめシート!$B$5)","v":""},null,null,null,"",""]
[55,null,{"$f":"IF(D59=\"\",\"\",取りまとめシート!$B$5)","v":""},null,null,null,"",""]
[56,null,{"$f":"IF(D60=\"\",\"\",取りまとめシート!$B$5)","v":""},null,null,null,"",""]
[57,null,{"$f":"IF(D61=\"\",\"\",取りまとめシート!$B$5)","v":""},null,null,null,"",""]
[58,null,{"$f":"IF(D62=\"\",\"\",取りまとめシート!$B$5)","v":""},null,null,null,"",""]
[59,null,{"$f":"IF(D63=\"\",\"\",取りまとめシート!$B$5)","v":""},null,null,null,"",""]
[60,null,{"$f":"IF(D64=\"\",\"\",取りまとめシート!$B$5)","v":""},null,null,null,"",""]
[61,null,{"$f":"IF(D65=\"\",\"\",取りまとめシート!$B$5)","v":""},null,null,null,"",""]
[62,null,{"$f":"IF(D66=\"\",\"\",取りまとめシート!$B$5)","v":""},null,null,null,"",""]
[63,null,{"$f":"IF(D67=\"\",\"\",取りまとめシート!$B$5)","v":""},null,null,null,"",""]
[64,null,{"$f":"IF(D68=\"\",\"\",取りまとめシート!$B$5)","v":""},null,null,null,"",""]
[65,null,{"$f":"IF(D69=\"\",\"\",取りまとめシート!$B$5)","v":""},null,null,null,{"$f":"IF(E69=\"〇\",VLOOKUP($B69,$J$3:$K$6,2,0),\"\")","v":""},{"$f":"IF(F69=\"〇\",VLOOKUP($B69,$J$3:$K$6,2,0),\"\")","v":""}]
[66,null,{"$f":"IF(D70=\"\",\"\",取りまとめシート!$B$5)","v":""},null,null,null,"",""]
[67,null,{"$f":"IF(D71=\"\",\"\",取りまとめシート!$B$5)","v":""},null,null,null,"",""]
[68,null,{"$f":"IF(D72=\"\",\"\",取りまとめシート!$B$5)","v":""},null,null,null,"",""]
[69,null,{"$f":"IF(D73=\"\",\"\",取りまとめシート!$B$5)","v":""},null,null,null,"",""]
[70,null,{"$f":"IF(D74=\"\",\"\",取りまとめシート!$B$5)","v":""},null,null,null,"",""]
[71,null,{"$f":"IF(D75=\"\",\"\",取りまとめシート!$B$5)","v":""},null,null,null,"",""]
[72,null,{"$f":"IF(D76=\"\",\"\",取りまとめシート!$B$5)","v":""},null,null,null,"",""]
[73,null,{"$f":"IF(D77=\"\",\"\",取りまとめシート!$B$5)","v":""},null,null,null,"",""]
[74,null,{"$f":"IF(D78=\"\",\"\",取りまとめシート!$B$5)","v":""},null,null,null,"",""]
[75,null,{"$f":"IF(D79=\"\",\"\",取りまとめシート!$B$5)","v":""},null,null,null,"",""]
[76,null,{"$f":"IF(D80=\"\",\"\",取りまとめシート!$B$5)","v":""},null,null,null,"",""]
[77,null,{"$f":"IF(D81=\"\",\"\",取りまとめシート!$B$5)","v":""},null,null,null,"",""]
[78,null,{"$f":"IF(D82=\"\",\"\",取りまとめシート!$B$5)","v":""},null,null,null,"",""]
[79,null,{"$f":"IF(D83=\"\",\"\",取りまとめシート!$B$5)","v":""},null,null,null,"",""]
[80,null,{"$f":"IF(D84=\"\",\"\",取りまとめシート!$B$5)","v":""},null,null,null,"",""]
[81,null,{"$f":"IF(D85=\"\",\"\",取りまとめシート!$B$5)","v":""},null,null,null,"",""]
[82,null,{"$f":"IF(D86=\"\",\"\",取りまとめシート!$B$5)","v":""},null,null,null,"",""]
[83,null,{"$f":"IF(D87=\"\",\"\",取りまとめシート!$B$5)","v":""},null,null,null,"",""]
[84,null,{"$f":"IF(D88=\"\",\"\",取りまとめシート!$B$5)","v":""},null,null,null,"",""]
[85,null,{"$f":"IF(D89=\"\",\"\",取りまとめシート!$B$5)","v":""},null,null,null,"",""]
[86,null,{"$f":"IF(D90=\"\",\"\",取りまとめシート!$B$5)","v":""},null,null,null,"",""]
[87,null,{"$f":"IF(D91=\"\",\"\",取りまとめシート!$B$5)","v":""},null,null,null,"",""]
[88,null,{"$f":"IF(D92=\"\",\"\",取りまとめシート!$B$5)","v":""},null,null,null,"",""]
[89,null,{"$f":"IF(D93=\"\",\"\",取りまとめシート!$B$5)","v":""},null,null,null,"",""]
[90,null,{"$f":"IF(D94=\"\",\"\",取りまとめシート!$B$5)","v":""},null,null,null,"",""]
[91,null,{"$f":"IF(D95=\"\",\"\",取りまとめシート!$B$5)","v":""},null,null,null,"",""]
[92,null,{"$f":"IF(D96=\"\",\"\",取りまとめシート!$B$5)","v":""},null,null,null,"",""]
[93,null,{"$f":"IF(D97=\"\",\"\",取りまとめシート!$B$5)","v":""},null,null,null,"",""]
[94,null,{"$f":"IF(D98=\"\",\"\",取りまとめシート!$B$5)","v":""},null,null,null,"",""]
[95,null,{"$f":"IF(D99=\"\",\"\",取りまとめシート!$B$5)","v":""},null,null,null,"",""]
[96,null,{"$f":"IF(D100=\"\",\"\",取りまとめシート!$B$5)","v":""},null,null,null,"",""]
[97,null,{"$f":"IF(D101=\"\",\"\",取りまとめシート!$B$5)","v":""},null,null,null,"",""]
[98,null,{"$f":"IF(D102=\"\",\"\",取りまとめシート!$B$5)","v":""},null,null,null,"",""]
[99,null,{"$f":"IF(D103=\"\",\"\",取りまとめシート!$B$5)","v":""},null,null,null,"",""]
[100,null,{"$f":"IF(D104=\"\",\"\",取りまとめシート!$B$5)","v":""},null,null,null,"",""]

{"sheet":"女子申込(形・組手共通) ","index":2,"n_rows":104,"n_cols":13,"rows_kept":104,"cut":false,"hidden":false,"merged":[[0,10,0,12],[2,0,3,0],[2,1,3,1],[2,2,3,2],[2,3,3,3],[2,4,2,5],[0,0,1,5]]}
["UMKスポーツフェスタ　参加申込書（女子）",null,null,null,null,null,null,null,null,null,"参加人数表（女子）"]
[null,null,null,null,null,null,null,null,null,null,"学年","形","組手"]
["番号","学年","所属団体名\n（自動入力）","氏　　名","参加種目",null,null,null,null,"小３","小学３年",{"$f":"COUNTIF($G$5:$G$104,K3)","v":0},{"$f":"COUNTIF($H$3:$H$104,K3)","v":0}]
[null,null,null,null,"形","組手",null,null,null,"小４","小学４年",{"$f":"COUNTIF($G$5:$G$104,K4)","v":0},{"$f":"COUNTIF($H$3:$H$104,K4)","v":0}]
[1,null,{"$f":"IF(D5=\"\",\"\",取りまとめシート!$B$5)","v":""},null,null,null,{"$f":"IF(E5=\"〇\",VLOOKUP($B5,$J$3:$K$6,2,0),\"\")","v":""},{"$f":"IF(F5=\"〇\",VLOOKUP($B5,$J$3:$K$6,2,0),\"\")","v":""},"〇","小５","小学５年",0,0]
[2,null,{"$f":"IF(D6=\"\",\"\",取りまとめシート!$B$5)","v":""},null,null,null,"","","－","小６","小学６年",0,0]
[3,null,{"$f":"IF(D7=\"\",\"\",取りまとめシート!$B$5)","v":""},null,null,null,"",""]
[4,null,{"$f":"IF(D8=\"\",\"\",取りまとめシート!$B$5)","v":""},null,null,null,"",""]
[5,null,{"$f":"IF(D9=\"\",\"\",取りまとめシート!$B$5)","v":""},null,null,null,"",""]
[6,null,{"$f":"IF(D10=\"\",\"\",取りまとめシート!$B$5)","v":""},null,null,null,"",""]
[7,null,{"$f":"IF(D11=\"\",\"\",取りまとめシート!$B$5)","v":""},null,null,null,"",""]
[8,null,{"$f":"IF(D12=\"\",\"\",取りまとめシート!$B$5)","v":""},null,null,null,"",""]
[9,null,{"$f":"IF(D13=\"\",\"\",取りまとめシート!$B$5)","v":""},null,null,null,"",""]
[10,null,{"$f":"IF(D14=\"\",\"\",取りまとめシート!$B$5)","v":""},null,null,null,"",""]
[11,null,{"$f":"IF(D15=\"\",\"\",取りまとめシート!$B$5)","v":""},null,null,null,"",""]
[12,null,{"$f":"IF(D16=\"\",\"\",取りまとめシート!$B$5)","v":""},null,null,null,"",""]
[13,null,{"$f":"IF(D17=\"\",\"\",取りまとめシート!$B$5)","v":""},null,null,null,"",""]
[14,null,{"$f":"IF(D18=\"\",\"\",取りまとめシート!$B$5)","v":""},null,null,null,"",""]
[15,null,{"$f":"IF(D19=\"\",\"\",取りまとめシート!$B$5)","v":""},null,null,null,"",""]
[16,null,{"$f":"IF(D20=\"\",\"\",取りまとめシート!$B$5)","v":""},null,null,null,"",""]
[17,null,{"$f":"IF(D21=\"\",\"\",取りまとめシート!$B$5)","v":""},null,null,null,"",""]
[18,null,{"$f":"IF(D22=\"\",\"\",取りまとめシート!$B$5)","v":""},null,null,null,"",""]
[19,null,{"$f":"IF(D23=\"\",\"\",取りまとめシート!$B$5)","v":""},null,null,null,"",""]
[20,null,{"$f":"IF(D24=\"\",\"\",取りまとめシート!$B$5)","v":""},null,null,null,"",""]
[21,null,{"$f":"IF(D25=\"\",\"\",取りまとめシート!$B$5)","v":""},null,null,null,"",""]
[22,null,{"$f":"IF(D26=\"\",\"\",取りまとめシート!$B$5)","v":""},null,null,null,"",""]
[23,null,{"$f":"IF(D27=\"\",\"\",取りまとめシート!$B$5)","v":""},null,null,null,"",""]
[24,null,{"$f":"IF(D28=\"\",\"\",取りまとめシート!$B$5)","v":""},null,null,null,"",""]
[25,null,{"$f":"IF(D29=\"\",\"\",取りまとめシート!$B$5)","v":""},null,null,null,"",""]
[26,null,{"$f":"IF(D30=\"\",\"\",取りまとめシート!$B$5)","v":""},null,null,null,"",""]
[27,null,{"$f":"IF(D31=\"\",\"\",取りまとめシート!$B$5)","v":""},null,null,null,"",""]
[28,null,{"$f":"IF(D32=\"\",\"\",取りまとめシート!$B$5)","v":""},null,null,null,"",""]
[29,null,{"$f":"IF(D33=\"\",\"\",取りまとめシート!$B$5)","v":""},null,null,null,"",""]
[30,null,{"$f":"IF(D34=\"\",\"\",取りまとめシート!$B$5)","v":""},null,null,null,"",""]
[31,null,{"$f":"IF(D35=\"\",\"\",取りまとめシート!$B$5)","v":""},null,null,null,"",""]
[32,null,{"$f":"IF(D36=\"\",\"\",取りまとめシート!$B$5)","v":""},null,null,null,"",""]
[33,null,{"$f":"IF(D37=\"\",\"\",取りまとめシート!$B$5)","v":""},null,null,null,{"$f":"IF(E37=\"〇\",VLOOKUP($B37,$J$3:$K$6,2,0),\"\")","v":""},{"$f":"IF(F37=\"〇\",VLOOKUP($B37,$J$3:$K$6,2,0),\"\")","v":""}]
[34,null,{"$f":"IF(D38=\"\",\"\",取りまとめシート!$B$5)","v":""},null,null,null,"",""]
[35,null,{"$f":"IF(D39=\"\",\"\",取りまとめシート!$B$5)","v":""},null,null,null,"",""]
[36,null,{"$f":"IF(D40=\"\",\"\",取りまとめシート!$B$5)","v":""},null,null,null,"",""]
[37,null,{"$f":"IF(D41=\"\",\"\",取りまとめシート!$B$5)","v":""},null,null,null,"",""]
[38,null,{"$f":"IF(D42=\"\",\"\",取りまとめシート!$B$5)","v":""},null,null,null,"",""]
[39,null,{"$f":"IF(D43=\"\",\"\",取りまとめシート!$B$5)","v":""},null,null,null,"",""]
[40,null,{"$f":"IF(D44=\"\",\"\",取りまとめシート!$B$5)","v":""},null,null,null,"",""]
[41,null,{"$f":"IF(D45=\"\",\"\",取りまとめシート!$B$5)","v":""},null,null,null,"",""]
[42,null,{"$f":"IF(D46=\"\",\"\",取りまとめシート!$B$5)","v":""},null,null,null,"",""]
[43,null,{"$f":"IF(D47=\"\",\"\",取りまとめシート!$B$5)","v":""},null,null,null,"",""]
[44,null,{"$f":"IF(D48=\"\",\"\",取りまとめシート!$B$5)","v":""},null,null,null,"",""]
[45,null,{"$f":"IF(D49=\"\",\"\",取りまとめシート!$B$5)","v":""},null,null,null,"",""]
[46,null,{"$f":"IF(D50=\"\",\"\",取りまとめシート!$B$5)","v":""},null,null,null,"",""]
[47,null,{"$f":"IF(D51=\"\",\"\",取りまとめシート!$B$5)","v":""},null,null,null,"",""]
[48,null,{"$f":"IF(D52=\"\",\"\",取りまとめシート!$B$5)","v":""},null,null,null,"",""]
[49,null,{"$f":"IF(D53=\"\",\"\",取りまとめシート!$B$5)","v":""},null,null,null,"",""]
[50,null,{"$f":"IF(D54=\"\",\"\",取りまとめシート!$B$5)","v":""},null,null,null,"",""]
[51,null,{"$f":"IF(D55=\"\",\"\",取りまとめシート!$B$5)","v":""},null,null,null,"",""]
[52,null,{"$f":"IF(D56=\"\",\"\",取りまとめシート!$B$5)","v":""},null,null,null,"",""]
[53,null,{"$f":"IF(D57=\"\",\"\",取りまとめシート!$B$5)","v":""},null,null,null,"",""]
[54,null,{"$f":"IF(D58=\"\",\"\",取りまとめシート!$B$5)","v":""},null,null,null,"",""]
[55,null,{"$f":"IF(D59=\"\",\"\",取りまとめシート!$B$5)","v":""},null,null,null,"",""]
[56,null,{"$f":"IF(D60=\"\",\"\",取りまとめシート!$B$5)","v":""},null,null,null,"",""]
[57,null,{"$f":"IF(D61=\"\",\"\",取りまとめシート!$B$5)","v":""},null,null,null,"",""]
[58,null,{"$f":"IF(D62=\"\",\"\",取りまとめシート!$B$5)","v":""},null,null,null,"",""]
[59,null,{"$f":"IF(D63=\"\",\"\",取りまとめシート!$B$5)","v":""},null,null,null,"",""]
[60,null,{"$f":"IF(D64=\"\",\"\",取りまとめシート!$B$5)","v":""},null,null,null,"",""]
[61,null,{"$f":"IF(D65=\"\",\"\",取りまとめシート!$B$5)","v":""},null,null,null,"",""]
[62,null,{"$f":"IF(D66=\"\",\"\",取りまとめシート!$B$5)","v":""},null,null,null,"",""]
[63,null,{"$f":"IF(D67=\"\",\"\",取りまとめシート!$B$5)","v":""},null,null,null,"",""]
[64,null,{"$f":"IF(D68=\"\",\"\",取りまとめシート!$B$5)","v":""},null,null,null,"",""]
[65,null,{"$f":"IF(D69=\"\",\"\",取りまとめシート!$B$5)","v":""},null,null,null,{"$f":"IF(E69=\"〇\",VLOOKUP($B69,$J$3:$K$6,2,0),\"\")","v":""},{"$f":"IF(F69=\"〇\",VLOOKUP($B69,$J$3:$K$6,2,0),\"\")","v":""}]
[66,null,{"$f":"IF(D70=\"\",\"\",取りまとめシート!$B$5)","v":""},null,null,null,"",""]
[67,null,{"$f":"IF(D71=\"\",\"\",取りまとめシート!$B$5)","v":""},null,null,null,"",""]
[68,null,{"$f":"IF(D72=\"\",\"\",取りまとめシート!$B$5)","v":""},null,null,null,"",""]
[69,null,{"$f":"IF(D73=\"\",\"\",取りまとめシート!$B$5)","v":""},null,null,null,"",""]
[70,null,{"$f":"IF(D74=\"\",\"\",取りまとめシート!$B$5)","v":""},null,null,null,"",""]
[71,null,{"$f":"IF(D75=\"\",\"\",取りまとめシート!$B$5)","v":""},null,null,null,"",""]
[72,null,{"$f":"IF(D76=\"\",\"\",取りまとめシート!$B$5)","v":""},null,null,null,"",""]
[73,null,{"$f":"IF(D77=\"\",\"\",取りまとめシート!$B$5)","v":""},null,null,null,"",""]
[74,null,{"$f":"IF(D78=\"\",\"\",取りまとめシート!$B$5)","v":""},null,null,null,"",""]
[75,null,{"$f":"IF(D79=\"\",\"\",取りまとめシート!$B$5)","v":""},null,null,null,"",""]
[76,null,{"$f":"IF(D80=\"\",\"\",取りまとめシート!$B$5)","v":""},null,null,null,"",""]
[77,null,{"$f":"IF(D81=\"\",\"\",取りまとめシート!$B$5)","v":""},null,null,null,"",""]
[78,null,{"$f":"IF(D82=\"\",\"\",取りまとめシート!$B$5)","v":""},null,null,null,"",""]
[79,null,{"$f":"IF(D83=\"\",\"\",取りまとめシート!$B$5)","v":""},null,null,null,"",""]
[80,null,{"$f":"IF(D84=\"\",\"\",取りまとめシート!$B$5)","v":""},null,null,null,"",""]
[81,null,{"$f":"IF(D85=\"\",\"\",取りまとめシート!$B$5)","v":""},null,null,null,"",""]
[82,null,{"$f":"IF(D86=\"\",\"\",取りまとめシート!$B$5)","v":""},null,null,null,"",""]
[83,null,{"$f":"IF(D87=\"\",\"\",取りまとめシート!$B$5)","v":""},null,null,null,"",""]
[84,null,{"$f":"IF(D88=\"\",\"\",取りまとめシート!$B$5)","v":""},null,null,null,"",""]
[85,null,{"$f":"IF(D89=\"\",\"\",取りまとめシート!$B$5)","v":""},null,null,null,"",""]
[86,null,{"$f":"IF(D90=\"\",\"\",取りまとめシート!$B$5)","v":""},null,null,null,"",""]
[87,null,{"$f":"IF(D91=\"\",\"\",取りまとめシート!$B$5)","v":""},null,null,null,"",""]
[88,null,{"$f":"IF(D92=\"\",\"\",取りまとめシート!$B$5)","v":""},null,null,null,"",""]
[89,null,{"$f":"IF(D93=\"\",\"\",取りまとめシート!$B$5)","v":""},null,null,null,"",""]
[90,null,{"$f":"IF(D94=\"\",\"\",取りまとめシート!$B$5)","v":""},null,null,null,"",""]
[91,null,{"$f":"IF(D95=\"\",\"\",取りまとめシート!$B$5)","v":""},null,null,null,"",""]
[92,null,{"$f":"IF(D96=\"\",\"\",取りまとめシート!$B$5)","v":""},null,null,null,"",""]
[93,null,{"$f":"IF(D97=\"\",\"\",取りまとめシート!$B$5)","v":""},null,null,null,"",""]
[94,null,{"$f":"IF(D98=\"\",\"\",取りまとめシート!$B$5)","v":""},null,null,null,"",""]
[95,null,{"$f":"IF(D99=\"\",\"\",取りまとめシート!$B$5)","v":""},null,null,null,"",""]
[96,null,{"$f":"IF(D100=\"\",\"\",取りまとめシート!$B$5)","v":""},null,null,null,"",""]
[97,null,{"$f":"IF(D101=\"\",\"\",取りまとめシート!$B$5)","v":""},null,null,null,"",""]
[98,null,{"$f":"IF(D102=\"\",\"\",取りまとめシート!$B$5)","v":""},null,null,null,"",""]
[99,null,{"$f":"IF(D103=\"\",\"\",取りまとめシート!$B$5)","v":""},null,null,null,"",""]
[100,null,{"$f":"IF(D104=\"\",\"\",取りまとめシート!$B$5)","v":""},null,null,null,"",""]

{"sheet":"設定","index":3,"n_rows":45,"n_cols":5,"rows_kept":45,"cut":false,"hidden":false,"merged":[]}
[]
[]
["表題","団体名","締め切り日","送信メールアドレス","メール件名"]
[2024,"剛柔会支部","2024-02-02","a.ggae.xpx@gmail.com","UMKスポーツフェスタ申込"]
[null,"松濤塾"]
[null,"士濤館"]
[null,"志誠館"]
[null,"高千穂松濤館"]
[null,"玄瀏館"]
[null,"順泉館"]
[null,"同心館東郷"]
[null,"明日香塾"]
[null,"征柔館"]
[null,"南空会"]
[null,"Ｕ松濤館"]
[null,"新富和道会"]
[null,"白水道場"]
[null,"翔和空手塾"]
[null,"順武館"]
[null,"優和館"]
[null,"同心館宮崎道場"]
[null,"瓜生空手クラブ"]
[null,"心道会"]
[null,"紘徳館"]
[null,"武徳会"]
[null,"高岡松濤館"]
[null,"宮崎修道会"]
[null,"宮崎松涛館"]
[null,"明青塾"]
[null,"至空塾"]
[null,"錦空手会"]
[null,"夢道場"]
[null,"宮崎征柔館"]
[null,"日本松涛連盟宮崎"]
[null,"神武館"]
[null,"敬武會"]
[null,"敬武館南郷"]
[null,"串間松濤館"]
[null,"敬武館串間"]
[null,"緑勝会"]
[null,"北志館"]
[null,"敬武館都城"]
[null,"鹿大宮崎OB会"]
[null,"真幸会"]
[null,"障がい者空手協会"]